BEGIN:VCALENDAR
VERSION:2.0
PRODID:-//Eventin//Event Calendar//EN
CALSCALE:GREGORIAN
METHOD:PUBLISH
BEGIN:VEVENT
UID:b567eacec6728190514c48a30f936d5a@theexcelchurch.org
SUMMARY:HopeNow Maryland Conference 2026
DESCRIPTION:Join Excel Church for the HopeNow Maryland Conference 2026\, a 
 powerful and inspiring gathering centered on the theme “Leveraging Relati
 onships for Growth and Productivity\,” where you will gain practical insi
 ght and spiritual wisdom on how meaningful\, God-centered relationships can
  elevate every area of your life\; featuring an exceptional lineup of speak
 ers and panelists\, this event will equip you to build stronger connections
 \, expand your influence\, and walk more fully in your purpose through enga
 ging discussions and impactful teaching\; taking place on Saturday\, May 2\
 , 2026 at 12 noon at the Hilton Washington DC/Rockville Hotel & Executive M
 eeting Centre\, this is your opportunity to step into an atmosphere of grow
 th\, collaboration\, and transformation and discover how the right relation
 ships can unlock the next level of your calling.
LOCATION:Hilton Washington DC/Rockville Hotel & Executive Meeting Centre
DTSTAMP:20260420T031532Z
DTSTART:20260502T160000Z
DTEND:20260502T210000Z
END:VEVENT
END:VCALENDAR
