BEGIN:VCALENDAR
VERSION:2.0
PRODID:-//Eventin//Event Calendar//EN
CALSCALE:GREGORIAN
METHOD:PUBLISH
BEGIN:VEVENT
UID:853b3de658bc5da24607a6dcc7b45b0d@theexcelchurch.org
SUMMARY:Mental Health Sunday
DESCRIPTION:Join Excel Church for a powerful and impactful Mental Health Su
 nday on May 3rd at our 10:30 AM service\, featuring special guest Dr. Rosem
 ary Cook\, a respected therapist\, professor at Johns Hopkins University\, 
 and Director of Pastoral Care at Bethel AME in Baltimore. This meaningful s
 ervice will create space for honest conversation\, encouragement\, and spir
 itual insight surrounding mental and emotional well-being. Whether you are 
 seeking support\, understanding\, or simply a moment to reflect and grow\, 
 this experience is designed to nurture your mind\, soul\, and overall healt
 h in a welcoming and faith-centered environment.\n\n\n\n\n \n\n \n\n\n\n\
 n\n 
LOCATION:Excel Church\, 2503 Belair Dr\, Bowie\, MD 20715
DTSTAMP:20260420T030433Z
DTSTART:20260503T143000Z
DTEND:20260503T160000Z
END:VEVENT
END:VCALENDAR
