BEGIN:VCALENDAR
VERSION:2.0
PRODID:-//Eventin//Event Calendar//EN
CALSCALE:GREGORIAN
METHOD:PUBLISH
BEGIN:VEVENT
UID:4426c9d84e535621fdd2aa1642aaf268@theexcelchurch.org
SUMMARY:2026 Theme:  Unshakable: Building for God\, Driven by Purpose
DESCRIPTION:Join Pastors David & Hope Porter and the Excel Church family fo
 r our powerful new series\, Unshakable. Inspired by Nehemiah 4:6\, we are e
 xploring what it means to be driven by God's purpose and to build a life an
 d faith that cannot be shaken.\nCome and be encouraged to stand firm in you
 r faith and discover the work God has called you to do.\nService Times & Lo
 cation\nWe invite you to worship with us in person this Sunday!\n\n\nWhen: 
 Sunday at 8:00 AM & 10:30 AM\n\n\nWhere: Excel Church\, 2503 Belair Dr.\, B
 owie\, MD 20715
LOCATION:Excel Church 2503 Belair Dr\, Bowie\, MD 20715
DTSTAMP:20260420T134429Z
DTSTART:20260426T120000Z
DTEND:20260426T163000Z
END:VEVENT
END:VCALENDAR
