BEGIN:VCALENDAR
VERSION:2.0
PRODID:-//Eventin//Event Calendar//EN
CALSCALE:GREGORIAN
METHOD:PUBLISH
BEGIN:VEVENT
UID:4d616ec5cbf3e8b1d7d11f5dfc46c4dc@theexcelchurch.org
SUMMARY:End Times Bible Study
DESCRIPTION:Join Excel Church for our End Times Bible Study: Rapture Study\
 , an in-depth exploration of what the Bible teaches about the end times and
  Christ’s return. This powerful study will deepen your understanding of p
 rophetic Scripture and strengthen your faith in God’s promises. Whether y
 ou join us in person at 2503 Belair Dr\, Bowie\, MD 20715 or online via Zoo
 m\, you’ll gain biblical insight and spiritual encouragement as we study 
 together. Access the study at tinyurl.com/excelbiblestudy (Meeting ID: 881 
 3414 9113 | Passcode: 9410). Don’t miss this opportunity to grow in wisdo
 m and hope as we prepare for the glorious return of Jesus Christ.
LOCATION:Online
DTSTAMP:20260420T030500Z
DTSTART:20260422T233000Z
DTEND:20260423T010000Z
END:VEVENT
END:VCALENDAR
