BEGIN:VCALENDAR
VERSION:2.0
PRODID:-//Eventin//Event Calendar//EN
CALSCALE:GREGORIAN
METHOD:PUBLISH
BEGIN:VEVENT
UID:a2be42b4de64d5f1703aea075ece76ca@theexcelchurch.org
SUMMARY:Tuesday Evening Prayer
DESCRIPTION:Join us every Tuesday evening at 7:30 PM online via Zoom for a 
 powerful time of prayer and connection. As a church\, we are seeking God’
 s guidance during this season of transition and standing together in faith 
 for what He is doing in and through Excel Church. All are welcome to partic
 ipate. We also encourage fasting each Tuesday from midnight until dinner as
  we humble ourselves before God in unity. Let’s come together to pray\, b
 elieve\, and expect great things.\nJoin the meeting here:\nOnline Meeting I
 D 971657877\nDial-in Number (605) 313-9862\nAccess Number 3529414\nFor more
  information\, please see Bro. Daniel.
LOCATION:Excel Church\, 2503 Belair Dr\, Bowie\, MD 20715
DTSTAMP:20260420T031238Z
DTSTART:20260421T113000Z
DTEND:20260421T130000Z
END:VEVENT
END:VCALENDAR
