BEGIN:VCALENDAR
VERSION:2.0
PRODID:-//Eventin//Event Calendar//EN
CALSCALE:GREGORIAN
METHOD:PUBLISH
BEGIN:VEVENT
UID:958c46d35be2992259b7e7229bbb4357@theexcelchurch.org
SUMMARY:Men & Boys Camping Trip
DESCRIPTION:Join us for an unforgettable weekend of adventure\, connection\
 , and fun in the great outdoors!\n📍 Location: Baltimore County📅 Dates
 : Friday\, June 5 – Sunday\, June 7💲 Cost: $140\nGet ready for an amaz
 ing time filled with:✓ Swimming✓ Camping under the stars✓ Hiking and 
 outdoor exploration✓ Games and sports✓ Cooking by the campfire✓ Meani
 ngful bonding between men and boys\nThis trip is all about building strong 
 relationships\, creating lasting memories\, and growing together.\nIf you'r
 e interested in sponsoring a boy/student\, we’d love your support—pleas
 e connect with Rev. Peake.\nDon’t miss out on this powerful and fun-fille
 d weekend!
LOCATION:Baltimore County
DTSTAMP:20260420T030937Z
DTSTART:20260605T120000Z
DTEND:20260607T210000Z
END:VEVENT
END:VCALENDAR
